BEGIN:VCALENDAR
VERSION:2.0
PRODID:-//StartupGVL - ECPv6.15.20//NONSGML v1.0//EN
CALSCALE:GREGORIAN
METHOD:PUBLISH
X-WR-CALNAME:StartupGVL
X-ORIGINAL-URL:https://startupgvl.com
X-WR-CALDESC:Events for StartupGVL
REFRESH-INTERVAL;VALUE=DURATION:PT1H
X-Robots-Tag:noindex
X-PUBLISHED-TTL:PT1H
BEGIN:VTIMEZONE
TZID:America/New_York
BEGIN:DAYLIGHT
TZOFFSETFROM:-0500
TZOFFSETTO:-0400
TZNAME:EDT
DTSTART:20250309T070000
END:DAYLIGHT
BEGIN:STANDARD
TZOFFSETFROM:-0400
TZOFFSETTO:-0500
TZNAME:EST
DTSTART:20251102T060000
END:STANDARD
BEGIN:DAYLIGHT
TZOFFSETFROM:-0500
TZOFFSETTO:-0400
TZNAME:EDT
DTSTART:20260308T070000
END:DAYLIGHT
BEGIN:STANDARD
TZOFFSETFROM:-0400
TZOFFSETTO:-0500
TZNAME:EST
DTSTART:20261101T060000
END:STANDARD
BEGIN:DAYLIGHT
TZOFFSETFROM:-0500
TZOFFSETTO:-0400
TZNAME:EDT
DTSTART:20270314T070000
END:DAYLIGHT
BEGIN:STANDARD
TZOFFSETFROM:-0400
TZOFFSETTO:-0500
TZNAME:EST
DTSTART:20271107T060000
END:STANDARD
END:VTIMEZONE
BEGIN:VEVENT
DTSTART;TZID=America/New_York:20260529T110000
DTEND;TZID=America/New_York:20260529T130000
DTSTAMP:20260421T190323
CREATED:20260421T192120Z
LAST-MODIFIED:20260421T192120Z
UID:5369-1780052400-1780059600@startupgvl.com
SUMMARY:Office Hours with Tony Nolte
DESCRIPTION:If you’re in need of some one-on-one legal advice for your startup or small business\, Tony Nolte is available for free\, 30 minute time slots to talk through your business with you. Sign up here: https://docs.google.com/spreadsheets/d/12VabC5ozwR6hBwJNaZITcTY5oa5zuqENUuH0fT1T6_A/edit?usp=sharing
URL:https://startupgvl.com/event/office-hours-with-tony-nolte/
LOCATION:NEXT Innovation Center\, 411 University Ridge\, Greenville\, SC\, 29601\, United States
CATEGORIES:Professional Development
END:VEVENT
END:VCALENDAR