BEGIN:VCALENDAR
VERSION:2.0
PRODID:-//StartupGVL - ECPv6.15.20//NONSGML v1.0//EN
CALSCALE:GREGORIAN
METHOD:PUBLISH
X-WR-CALNAME:StartupGVL
X-ORIGINAL-URL:https://startupgvl.com
X-WR-CALDESC:Events for StartupGVL
REFRESH-INTERVAL;VALUE=DURATION:PT1H
X-Robots-Tag:noindex
X-PUBLISHED-TTL:PT1H
BEGIN:VTIMEZONE
TZID:America/New_York
BEGIN:DAYLIGHT
TZOFFSETFROM:-0500
TZOFFSETTO:-0400
TZNAME:EDT
DTSTART:20250309T070000
END:DAYLIGHT
BEGIN:STANDARD
TZOFFSETFROM:-0400
TZOFFSETTO:-0500
TZNAME:EST
DTSTART:20251102T060000
END:STANDARD
BEGIN:DAYLIGHT
TZOFFSETFROM:-0500
TZOFFSETTO:-0400
TZNAME:EDT
DTSTART:20260308T070000
END:DAYLIGHT
BEGIN:STANDARD
TZOFFSETFROM:-0400
TZOFFSETTO:-0500
TZNAME:EST
DTSTART:20261101T060000
END:STANDARD
BEGIN:DAYLIGHT
TZOFFSETFROM:-0500
TZOFFSETTO:-0400
TZNAME:EDT
DTSTART:20270314T070000
END:DAYLIGHT
BEGIN:STANDARD
TZOFFSETFROM:-0400
TZOFFSETTO:-0500
TZNAME:EST
DTSTART:20271107T060000
END:STANDARD
END:VTIMEZONE
BEGIN:VEVENT
DTSTART;TZID=America/New_York:20260331T173000
DTEND;TZID=America/New_York:20260331T200000
DTSTAMP:20260424T001211
CREATED:20260324T170221Z
LAST-MODIFIED:20260324T170221Z
UID:5308-1774978200-1774987200@startupgvl.com
SUMMARY:Pixel Pushers Happy Hour
DESCRIPTION:​Join us for happy hour at Liability Brewing from 5:30-8:00pm. Grab a drink\, find a table\, and mingle with others in Greenville’s creative community. \n​​​Event Info:\n​​​This event is free\, hosted by our friends at Wonder and NOOON Studio. Drinks courtesy of Nicer Studio. \n​We will be meeting at Pangea Brewing at 109 W Stone Ave Suite D in Greenville\, South Carolina. \n​Parking is available on site and across the street at Jack Porter. Use the crosswalk at the intersection of West Stone Avenue and Townes Street to cross. Limited street parking is also available on Townes\, Neal\, Earle and Wilton streets.
URL:https://startupgvl.com/event/pixel-pushers-happy-hour-2/
LOCATION:Liability Brewing\, 109 W Stone Ave\, Greenville\, SC\, 29609\, United States
END:VEVENT
END:VCALENDAR