BEGIN:VCALENDAR
VERSION:2.0
PRODID:-//StartupGVL - ECPv6.15.20//NONSGML v1.0//EN
CALSCALE:GREGORIAN
METHOD:PUBLISH
X-WR-CALNAME:StartupGVL
X-ORIGINAL-URL:https://startupgvl.com
X-WR-CALDESC:Events for StartupGVL
REFRESH-INTERVAL;VALUE=DURATION:PT1H
X-Robots-Tag:noindex
X-PUBLISHED-TTL:PT1H
BEGIN:VTIMEZONE
TZID:America/New_York
BEGIN:DAYLIGHT
TZOFFSETFROM:-0500
TZOFFSETTO:-0400
TZNAME:EDT
DTSTART:20240310T070000
END:DAYLIGHT
BEGIN:STANDARD
TZOFFSETFROM:-0400
TZOFFSETTO:-0500
TZNAME:EST
DTSTART:20241103T060000
END:STANDARD
BEGIN:DAYLIGHT
TZOFFSETFROM:-0500
TZOFFSETTO:-0400
TZNAME:EDT
DTSTART:20250309T070000
END:DAYLIGHT
BEGIN:STANDARD
TZOFFSETFROM:-0400
TZOFFSETTO:-0500
TZNAME:EST
DTSTART:20251102T060000
END:STANDARD
BEGIN:DAYLIGHT
TZOFFSETFROM:-0500
TZOFFSETTO:-0400
TZNAME:EDT
DTSTART:20260308T070000
END:DAYLIGHT
BEGIN:STANDARD
TZOFFSETFROM:-0400
TZOFFSETTO:-0500
TZNAME:EST
DTSTART:20261101T060000
END:STANDARD
END:VTIMEZONE
BEGIN:VEVENT
DTSTART;TZID=America/New_York:20251113T110000
DTEND;TZID=America/New_York:20251113T120000
DTSTAMP:20260421T221458
CREATED:20251106T213918Z
LAST-MODIFIED:20251106T213918Z
UID:4859-1763031600-1763035200@startupgvl.com
SUMMARY:Raising Digitally-Savvy Kids Workshop
DESCRIPTION:In this hands-on workshop\, we’ll dig deeper into building your family’s digital game plan for the holidays and beyond. You’ll learn how to guide your kids’ relationship with technology while keeping the joy of the season intact. \n\nEmpower yourself to guide your elementary-aged child through the digital world with our interactive parenting course\, “Raising Digital-Savvy Kids.” Learn to set healthy boundaries\, utilize practical safety tools\, foster digital skills\, and create a personalized “digital growth plan” for their transition to middle school and beyond. Each week includes a live session\, pre-work\, and at-home action steps\, providing you with the knowledge and confidence to support your child’s online journey.
URL:https://startupgvl.com/event/raising-digitally-savvy-kids-workshop/
LOCATION:Virtual
END:VEVENT
END:VCALENDAR