BEGIN:VCALENDAR
VERSION:2.0
PRODID:-//StartupGVL - ECPv6.15.20//NONSGML v1.0//EN
CALSCALE:GREGORIAN
METHOD:PUBLISH
X-WR-CALNAME:StartupGVL
X-ORIGINAL-URL:https://startupgvl.com
X-WR-CALDESC:Events for StartupGVL
REFRESH-INTERVAL;VALUE=DURATION:PT1H
X-Robots-Tag:noindex
X-PUBLISHED-TTL:PT1H
BEGIN:VTIMEZONE
TZID:America/New_York
BEGIN:DAYLIGHT
TZOFFSETFROM:-0500
TZOFFSETTO:-0400
TZNAME:EDT
DTSTART:20240310T070000
END:DAYLIGHT
BEGIN:STANDARD
TZOFFSETFROM:-0400
TZOFFSETTO:-0500
TZNAME:EST
DTSTART:20241103T060000
END:STANDARD
BEGIN:DAYLIGHT
TZOFFSETFROM:-0500
TZOFFSETTO:-0400
TZNAME:EDT
DTSTART:20250309T070000
END:DAYLIGHT
BEGIN:STANDARD
TZOFFSETFROM:-0400
TZOFFSETTO:-0500
TZNAME:EST
DTSTART:20251102T060000
END:STANDARD
BEGIN:DAYLIGHT
TZOFFSETFROM:-0500
TZOFFSETTO:-0400
TZNAME:EDT
DTSTART:20260308T070000
END:DAYLIGHT
BEGIN:STANDARD
TZOFFSETFROM:-0400
TZOFFSETTO:-0500
TZNAME:EST
DTSTART:20261101T060000
END:STANDARD
END:VTIMEZONE
BEGIN:VEVENT
DTSTART;TZID=America/New_York:20251119T093000
DTEND;TZID=America/New_York:20251119T113000
DTSTAMP:20260421T221406
CREATED:20251027T164921Z
LAST-MODIFIED:20251027T164921Z
UID:4832-1763544600-1763551800@startupgvl.com
SUMMARY:Relentless Execution Framework Workshop
DESCRIPTION:Join NextGEN and Dale Thrush\, Partner at By Design Advisors\, to learn about the relentless execution framework. Ideas are everywhere — execution is rare. This workshop is about building the discipline\, systems\, and mindset to turn your vision into traction. We’ll explore how founders can focus on what truly moves the needle\, establish habits that drive consistent progress\, and create a culture of accountability and follow-through. You’ll walk away with practical tools to simplify priorities\, align your team\, and push your company forward — no matter how chaotic the day-to-day gets. \nWith nearly 25 years of experience in people operations\, Dale knows firsthand that success hinges on having the right people in the right roles. Dale’s passion is helping business owners build high-performing teams\, because he believes organizations that invest in their people are the ones that thrive. \nHis career includes pivotal roles in growing and transitioning two companies—from small businesses to significant enterprises\, each sold at a premium due to the strong people and processes in place. He believes aligned teams drive success and finds fulfillment in empowering business owners to recognize their true value. Committed to simplicity\, intentionality\, and doing what’s right\, Dale supports clients in reaching their long-term goals.
URL:https://startupgvl.com/event/relentless-execution-framework-workshop/
LOCATION:NEXT Innovation Center\, 411 University Ridge\, Greenville\, SC\, 29601\, United States
END:VEVENT
END:VCALENDAR