BEGIN:VCALENDAR
VERSION:2.0
PRODID:-//StartupGVL - ECPv6.15.20//NONSGML v1.0//EN
CALSCALE:GREGORIAN
METHOD:PUBLISH
X-WR-CALNAME:StartupGVL
X-ORIGINAL-URL:https://startupgvl.com
X-WR-CALDESC:Events for StartupGVL
REFRESH-INTERVAL;VALUE=DURATION:PT1H
X-Robots-Tag:noindex
X-PUBLISHED-TTL:PT1H
BEGIN:VTIMEZONE
TZID:America/New_York
BEGIN:DAYLIGHT
TZOFFSETFROM:-0500
TZOFFSETTO:-0400
TZNAME:EDT
DTSTART:20240310T070000
END:DAYLIGHT
BEGIN:STANDARD
TZOFFSETFROM:-0400
TZOFFSETTO:-0500
TZNAME:EST
DTSTART:20241103T060000
END:STANDARD
BEGIN:DAYLIGHT
TZOFFSETFROM:-0500
TZOFFSETTO:-0400
TZNAME:EDT
DTSTART:20250309T070000
END:DAYLIGHT
BEGIN:STANDARD
TZOFFSETFROM:-0400
TZOFFSETTO:-0500
TZNAME:EST
DTSTART:20251102T060000
END:STANDARD
BEGIN:DAYLIGHT
TZOFFSETFROM:-0500
TZOFFSETTO:-0400
TZNAME:EDT
DTSTART:20260308T070000
END:DAYLIGHT
BEGIN:STANDARD
TZOFFSETFROM:-0400
TZOFFSETTO:-0500
TZNAME:EST
DTSTART:20261101T060000
END:STANDARD
END:VTIMEZONE
BEGIN:VEVENT
DTSTART;TZID=America/New_York:20251120T113000
DTEND;TZID=America/New_York:20251120T130000
DTSTAMP:20260421T180421
CREATED:20251119T174101Z
LAST-MODIFIED:20251119T174101Z
UID:4964-1763638200-1763643600@startupgvl.com
SUMMARY:Secure AI For Your Business
DESCRIPTION:Get ready to level up your business game with the latest insights on integrating AI seamlessly – it’s time to secure your success! \nWhat You’ll Gain:\n✓ Practical strategies you can implement immediately to leverage AI securely\n✓ Real-world use cases across sales\, marketing\, operations\, and more\n✓ Expert insights from industry leaders who’ve successfully navigated AI adoption\n✓ Actionable takeaways including our comprehensive AI Implementation Roadmap\n✓ Answers to YOUR questions – this is an interactive discussion\, not a lecture! \nPlus\, enjoy a complimentary lunch as you network with fellow business leaders facing the same opportunities and challenges. \nWhether you’re just exploring AI or ready to scale your initiatives\, you’ll leave with concrete next steps\, proven frameworks\, and the confidence to move forward safely and strategically. \nBring your questions. Share your challenges. Leave with solutions.
URL:https://startupgvl.com/event/secure-ai-for-your-business/
LOCATION:110 East Court Street\, 110 East Court Street\, Greenville\, SC\, 29601\, United States
CATEGORIES:AI Education
END:VEVENT
END:VCALENDAR