BEGIN:VCALENDAR
VERSION:2.0
PRODID:-//StartupGVL - ECPv6.15.20//NONSGML v1.0//EN
CALSCALE:GREGORIAN
METHOD:PUBLISH
X-WR-CALNAME:StartupGVL
X-ORIGINAL-URL:https://startupgvl.com
X-WR-CALDESC:Events for StartupGVL
REFRESH-INTERVAL;VALUE=DURATION:PT1H
X-Robots-Tag:noindex
X-PUBLISHED-TTL:PT1H
BEGIN:VTIMEZONE
TZID:America/New_York
BEGIN:DAYLIGHT
TZOFFSETFROM:-0500
TZOFFSETTO:-0400
TZNAME:EDT
DTSTART:20250309T070000
END:DAYLIGHT
BEGIN:STANDARD
TZOFFSETFROM:-0400
TZOFFSETTO:-0500
TZNAME:EST
DTSTART:20251102T060000
END:STANDARD
BEGIN:DAYLIGHT
TZOFFSETFROM:-0500
TZOFFSETTO:-0400
TZNAME:EDT
DTSTART:20260308T070000
END:DAYLIGHT
BEGIN:STANDARD
TZOFFSETFROM:-0400
TZOFFSETTO:-0500
TZNAME:EST
DTSTART:20261101T060000
END:STANDARD
BEGIN:DAYLIGHT
TZOFFSETFROM:-0500
TZOFFSETTO:-0400
TZNAME:EDT
DTSTART:20270314T070000
END:DAYLIGHT
BEGIN:STANDARD
TZOFFSETFROM:-0400
TZOFFSETTO:-0500
TZNAME:EST
DTSTART:20271107T060000
END:STANDARD
END:VTIMEZONE
BEGIN:VEVENT
DTSTART;TZID=America/New_York:20260218T080000
DTEND;TZID=America/New_York:20260218T093000
DTSTAMP:20260424T001931
CREATED:20260107T193230Z
LAST-MODIFIED:20260107T193230Z
UID:5074-1771401600-1771407000@startupgvl.com
SUMMARY:Tech Slam 'N Eggs
DESCRIPTION:Live from Greenville\, presenters will lift the hood on their tech stack and talk about discoveries\, insights\, and challenges they overcame.\n\n\n\nTech Slam N’ Eggs is a peer-to-peer event for the developer community. In this morning session\, lead developers will lift the hood on their tech stack and discuss discoveries\, insights\, and problems they overcame. This event is designed exclusively for the software developer community. This is NOT a pitch event\, but rather a collaborative atmosphere for developers to innovate and connect. \nTech Slam N’ Eggs will be hosted on the third Wednesday of the month – quarterly by market in Greenville.
URL:https://startupgvl.com/event/tech-slam-n-eggs/
LOCATION:Flywheel Coworking Greenville\, 101 N Main Street\, Greenville\, SC\, 29601\, United States
END:VEVENT
END:VCALENDAR