BEGIN:VCALENDAR
VERSION:2.0
PRODID:-//StartupGVL - ECPv6.15.20//NONSGML v1.0//EN
CALSCALE:GREGORIAN
METHOD:PUBLISH
X-WR-CALNAME:StartupGVL
X-ORIGINAL-URL:https://startupgvl.com
X-WR-CALDESC:Events for StartupGVL
REFRESH-INTERVAL;VALUE=DURATION:PT1H
X-Robots-Tag:noindex
X-PUBLISHED-TTL:PT1H
BEGIN:VTIMEZONE
TZID:America/New_York
BEGIN:DAYLIGHT
TZOFFSETFROM:-0500
TZOFFSETTO:-0400
TZNAME:EDT
DTSTART:20250309T070000
END:DAYLIGHT
BEGIN:STANDARD
TZOFFSETFROM:-0400
TZOFFSETTO:-0500
TZNAME:EST
DTSTART:20251102T060000
END:STANDARD
BEGIN:DAYLIGHT
TZOFFSETFROM:-0500
TZOFFSETTO:-0400
TZNAME:EDT
DTSTART:20260308T070000
END:DAYLIGHT
BEGIN:STANDARD
TZOFFSETFROM:-0400
TZOFFSETTO:-0500
TZNAME:EST
DTSTART:20261101T060000
END:STANDARD
BEGIN:DAYLIGHT
TZOFFSETFROM:-0500
TZOFFSETTO:-0400
TZNAME:EDT
DTSTART:20270314T070000
END:DAYLIGHT
BEGIN:STANDARD
TZOFFSETFROM:-0400
TZOFFSETTO:-0500
TZNAME:EST
DTSTART:20271107T060000
END:STANDARD
END:VTIMEZONE
BEGIN:VEVENT
DTSTART;TZID=America/New_York:20260415T180000
DTEND;TZID=America/New_York:20260415T200000
DTSTAMP:20260419T085215
CREATED:20260331T133730Z
LAST-MODIFIED:20260331T133730Z
UID:5313-1776276000-1776283200@startupgvl.com
SUMMARY:Launchpad Greenville Graduation
DESCRIPTION:​Liftoff! is a celebration of the graduation of our 12 week cohort\, featuring tech entrepreneurs who have spent the past few months building\, testing\, and sharpening their startups. Join us at Flywheel Coworking in Greenville for an evening with the founders\, fresh ideas\, and the momentum that comes from turning big plans into something real. \n​Come cheer on the cohort\, meet the people behind the companies\, and get a feel for what they have been creating. Expect a lively room\, inspiring conversations\, and a chance to toast the progress\, grit\, and ambition that got these startups to the finish line\, and to everything that comes next.
URL:https://startupgvl.com/event/launchpad-greenville-graduation/
LOCATION:Flywheel Coworking Greenville\, 101 N Main Street\, Greenville\, SC\, 29601\, United States
CATEGORIES:Awards,Community
END:VEVENT
END:VCALENDAR