BEGIN:VCALENDAR
VERSION:2.0
PRODID:-//StartupGVL - ECPv6.15.20//NONSGML v1.0//EN
CALSCALE:GREGORIAN
METHOD:PUBLISH
X-ORIGINAL-URL:https://startupgvl.com
X-WR-CALDESC:Events for StartupGVL
REFRESH-INTERVAL;VALUE=DURATION:PT1H
X-Robots-Tag:noindex
X-PUBLISHED-TTL:PT1H
BEGIN:VTIMEZONE
TZID:America/New_York
BEGIN:DAYLIGHT
TZOFFSETFROM:-0500
TZOFFSETTO:-0400
TZNAME:EDT
DTSTART:20250309T070000
END:DAYLIGHT
BEGIN:STANDARD
TZOFFSETFROM:-0400
TZOFFSETTO:-0500
TZNAME:EST
DTSTART:20251102T060000
END:STANDARD
BEGIN:DAYLIGHT
TZOFFSETFROM:-0500
TZOFFSETTO:-0400
TZNAME:EDT
DTSTART:20260308T070000
END:DAYLIGHT
BEGIN:STANDARD
TZOFFSETFROM:-0400
TZOFFSETTO:-0500
TZNAME:EST
DTSTART:20261101T060000
END:STANDARD
BEGIN:DAYLIGHT
TZOFFSETFROM:-0500
TZOFFSETTO:-0400
TZNAME:EDT
DTSTART:20270314T070000
END:DAYLIGHT
BEGIN:STANDARD
TZOFFSETFROM:-0400
TZOFFSETTO:-0500
TZNAME:EST
DTSTART:20271107T060000
END:STANDARD
END:VTIMEZONE
BEGIN:VEVENT
DTSTART;TZID=America/New_York:20260502T100000
DTEND;TZID=America/New_York:20260502T140000
DTSTAMP:20260424T082630
CREATED:20260224T144349Z
LAST-MODIFIED:20260224T144349Z
UID:5228-1777716000-1777730400@startupgvl.com
SUMMARY:Village Launch Spring Market
DESCRIPTION:Village Launch Markets\, hosted through Mill Village Ministries\, are community‑focused pop‑up markets that highlight local minority‑ and women‑owned small businesses. Each event features a variety of emerging entrepreneurs\, delicious food trucks\, good music to set the vibe\, and a welcoming\, family‑friendly atmosphere. These markets create a supportive space for small business owners to showcase their products\, connect with new customers\, and continue growing within the community.
URL:https://startupgvl.com/event/village-launch-spring-market-3/
LOCATION:Village Launch Market\, 1225 Pendleton Street\, Greenville\, SC\, 29611\, United States
CATEGORIES:Community
END:VEVENT
BEGIN:VEVENT
DTSTART;TZID=America/New_York:20260506T173000
DTEND;TZID=America/New_York:20260506T193000
DTSTAMP:20260424T082630
CREATED:20260323T195827Z
LAST-MODIFIED:20260323T195827Z
UID:5298-1778088600-1778095800@startupgvl.com
SUMMARY:Empowering Entrepreneurship
DESCRIPTION:A celebration of Small Business Week and the achievements of entrepreneurs and community champions. \n\n\n\n\nCommunityWorks is excited to host our Second Annual Empowering Entrepreneurship event on Wednesday\, May 6th\, at Avenue in downtown Greenville\, SC. Join us for an inspiring evening as we celebrate Small Business Week 2026 and recognize the resilience\, innovation\, and impact of local entrepreneurs and community champions. This special event will feature food\, drinks\, networking\, and an awards ceremony honoring outstanding small businesses and organizations that are making a difference in our community. \nWe welcome entrepreneurs\, community members\, partners\, and supporters to attend as we come together to recognize the vital role small businesses play in shaping strong\, thriving communities. This event is designed to bring people together to celebrate success stories\, build connections\, and highlight the power of entrepreneurship. \nTo celebrate the accomplishments of our local small businesses and organizations\, we will present three awards: \nCommunity Champion Award – Recognizing a business\, nonprofit\, or organization that has gone above and beyond to uplift the community through advocacy\, partnership\, and service. \nEmerging Small Business Award – Celebrating a rising small business that has demonstrated innovation\, resilience\, and strong potential for long-term success. \nBusiness Excellence Award – Honoring an established small business that continues to thrive\, lead\, and contribute to the strength of our local economy. \nThis event is an opportunity to connect with fellow entrepreneurs\, business leaders\, and community supporters who share a passion for small business success. Join us as we celebrate those driving growth and making a lasting impact. Contact CommunityWorks Communications Coordinator Madi Coggin at mcoggin@cwcarolina.org or 864-235-6331 ext 502 for more information.
URL:https://startupgvl.com/event/empowering-entrepreneurship/
LOCATION:Avenue\, 110 E Court St Suite 600\, Greenville\, SC\, 29601\, United States
CATEGORIES:Community,Networking
END:VEVENT
BEGIN:VEVENT
DTSTART;TZID=America/New_York:20260507T160000
DTEND;TZID=America/New_York:20260507T190000
DTSTAMP:20260424T082630
CREATED:20260414T140732Z
LAST-MODIFIED:20260420T172922Z
UID:5354-1778169600-1778180400@startupgvl.com
SUMMARY:SUDs (Startup Drinks)
DESCRIPTION:SUDs\, short for Startup Drinks is back! This unstructured networking event is open to entrepreneurs\, ecosystem allies\, and all community members of the #StartupGVL ecosystem. The first drink is free\, so get this one on your calendars.
URL:https://startupgvl.com/event/suds-startup-drinks/
LOCATION:Southernside Brewing Co\, 25 Delano Dr.\, Greenville\, SC\, United States
CATEGORIES:Community,Networking
END:VEVENT
BEGIN:VEVENT
DTSTART;TZID=America/New_York:20260516T170000
DTEND;TZID=America/New_York:20260516T200000
DTSTAMP:20260424T082630
CREATED:20260410T194731Z
LAST-MODIFIED:20260410T194731Z
UID:5351-1778950800-1778961600@startupgvl.com
SUMMARY:Game Night
DESCRIPTION:Join us for Game Night at Bletchley Commons – a relaxed evening of free pizza\, board games\, and new friends. Whether you’re into classics like Uno\, party favorites\, or strategy games like Catan\, we’ll have something for everyone. \nOpen to all members\, students\, and young adults aged 16-25\, as well as their guests. \nBring a friend\, or come solo and meet new ones. \nWhy come? \n🍕 Free pizza (enough said)\n🎲 Tons of board & card games\n🌟 A chance to meet other game lovers in Greenville
URL:https://startupgvl.com/event/game-night-6/
LOCATION:NEXT Innovation Center\, 411 University Ridge\, Greenville\, SC\, 29601\, United States
CATEGORIES:Community
END:VEVENT
BEGIN:VEVENT
DTSTART;TZID=America/New_York:20260605T100000
DTEND;TZID=America/New_York:20260605T140000
DTSTAMP:20260424T082630
CREATED:20260224T144520Z
LAST-MODIFIED:20260224T144520Z
UID:5230-1780653600-1780668000@startupgvl.com
SUMMARY:Village Launch Spring Market
DESCRIPTION:Village Launch Markets\, hosted through Mill Village Ministries\, are community‑focused pop‑up markets that highlight local minority‑ and women‑owned small businesses. Each event features a variety of emerging entrepreneurs\, delicious food trucks\, good music to set the vibe\, and a welcoming\, family‑friendly atmosphere. These markets create a supportive space for small business owners to showcase their products\, connect with new customers\, and continue growing within the community.
URL:https://startupgvl.com/event/village-launch-spring-market-4/
LOCATION:Village Launch Market\, 1225 Pendleton Street\, Greenville\, SC\, 29611\, United States
CATEGORIES:Community
END:VEVENT
BEGIN:VEVENT
DTSTART;TZID=America/New_York:20260606T100000
DTEND;TZID=America/New_York:20260606T140000
DTSTAMP:20260424T082630
CREATED:20260224T144628Z
LAST-MODIFIED:20260224T144628Z
UID:5232-1780740000-1780754400@startupgvl.com
SUMMARY:Village Launch Spring Market
DESCRIPTION:Village Launch Markets\, hosted through Mill Village Ministries\, are community‑focused pop‑up markets that highlight local minority‑ and women‑owned small businesses. Each event features a variety of emerging entrepreneurs\, delicious food trucks\, good music to set the vibe\, and a welcoming\, family‑friendly atmosphere. These markets create a supportive space for small business owners to showcase their products\, connect with new customers\, and continue growing within the community.
URL:https://startupgvl.com/event/village-launch-spring-market-5/
LOCATION:Village Launch Market\, 1225 Pendleton Street\, Greenville\, SC\, 29611\, United States
CATEGORIES:Community
END:VEVENT
END:VCALENDAR