BEGIN:VCALENDAR
VERSION:2.0
PRODID:-//StartupGVL - ECPv6.15.20//NONSGML v1.0//EN
CALSCALE:GREGORIAN
METHOD:PUBLISH
X-WR-CALNAME:StartupGVL
X-ORIGINAL-URL:https://startupgvl.com
X-WR-CALDESC:Events for StartupGVL
REFRESH-INTERVAL;VALUE=DURATION:PT1H
X-Robots-Tag:noindex
X-PUBLISHED-TTL:PT1H
BEGIN:VTIMEZONE
TZID:America/New_York
BEGIN:DAYLIGHT
TZOFFSETFROM:-0500
TZOFFSETTO:-0400
TZNAME:EDT
DTSTART:20240310T070000
END:DAYLIGHT
BEGIN:STANDARD
TZOFFSETFROM:-0400
TZOFFSETTO:-0500
TZNAME:EST
DTSTART:20241103T060000
END:STANDARD
BEGIN:DAYLIGHT
TZOFFSETFROM:-0500
TZOFFSETTO:-0400
TZNAME:EDT
DTSTART:20250309T070000
END:DAYLIGHT
BEGIN:STANDARD
TZOFFSETFROM:-0400
TZOFFSETTO:-0500
TZNAME:EST
DTSTART:20251102T060000
END:STANDARD
BEGIN:DAYLIGHT
TZOFFSETFROM:-0500
TZOFFSETTO:-0400
TZNAME:EDT
DTSTART:20260308T070000
END:DAYLIGHT
BEGIN:STANDARD
TZOFFSETFROM:-0400
TZOFFSETTO:-0500
TZNAME:EST
DTSTART:20261101T060000
END:STANDARD
END:VTIMEZONE
BEGIN:VEVENT
DTSTART;TZID=America/New_York:20251213T120000
DTEND;TZID=America/New_York:20251213T190000
DTSTAMP:20260424T095611
CREATED:20251205T180733Z
LAST-MODIFIED:20251205T180733Z
UID:5023-1765627200-1765652400@startupgvl.com
SUMMARY:Village Launch Holiday Market
DESCRIPTION:Join us for our Village Launch Market\, in partnership with the Village of West Greenville’s Holiday Market! \nShop from 30+ Village Launch vendors and small businesses\, and get in the holiday spirit with free photos with Santa\, a s’mores-making station\, music from The Darrin Jackson Encounter\, children’s crafts\, Christmas tree shopping\, and so much more! \n\n\n\n\n\n\nPLUS\, Village Launch Alumni are invited to a special Alumni Reunion at the Market! Connect with other small business owners and Alumni\, and learn about upcoming networking opportunities in the new year.
URL:https://startupgvl.com/event/village-launch-holiday-market/
LOCATION:Mill Village Hub\, 1186 Pendleton St\, Greenville\, SC\, 29611\, United States
CATEGORIES:Community
END:VEVENT
BEGIN:VEVENT
DTSTART;TZID=America/New_York:20251212T180000
DTEND;TZID=America/New_York:20251212T200000
DTSTAMP:20260424T095611
CREATED:20251208T180613Z
LAST-MODIFIED:20251208T180613Z
UID:5027-1765562400-1765569600@startupgvl.com
SUMMARY:Holiday Red Carpet Event
DESCRIPTION:Join us for the Holiday Red Carpet Event – dress up\, mingle\, and celebrate the season in style!\n\n\n\nCarolina Soma Boutique invites you to a special Holiday Red Carpet Evening featuring curated holiday pieces\, personalized styling\, a photo moment\, and complimentary light bites.
URL:https://startupgvl.com/event/holiday-red-carpet-event/
LOCATION:Carolina Soma\, 1239 Pendleton St\, Greenville\, SC\, 29611\, United States
CATEGORIES:Community
END:VEVENT
BEGIN:VEVENT
DTSTART;TZID=America/New_York:20251211T180000
DTEND;TZID=America/New_York:20251211T220000
DTSTAMP:20260424T095611
CREATED:20251205T164707Z
LAST-MODIFIED:20251205T164707Z
UID:5012-1765476000-1765490400@startupgvl.com
SUMMARY:Nocturne Gala
DESCRIPTION:​Fricks studios and Synergymill present Decembers Nocturne Gala! A night of music\, local art and food. \n​Come hang out with some really cool artists and makers! We’ll have some art displays\, cello music interludes\, and even some technology demonstrations.
URL:https://startupgvl.com/event/nocturne-gala/
LOCATION:Venture X\, 141 Traction St\, Greenville\, SC\, United States
CATEGORIES:Community,Networking
END:VEVENT
BEGIN:VEVENT
DTSTART;TZID=America/New_York:20251108T110000
DTEND;TZID=America/New_York:20251108T150000
DTSTAMP:20260424T095611
CREATED:20251106T211248Z
LAST-MODIFIED:20251106T211248Z
UID:4844-1762599600-1762614000@startupgvl.com
SUMMARY:Fam Jam + Village Launch Market
DESCRIPTION:Bring the whole crew for a family-friendly spin on Yam Jam\, sponsored by Duke Energy! \nHelp pack sweet potatoes for families in need! PLUS enjoy kids’ garden & cooking demos\, shop from 20+ vendors at the Village Launch Market\, & jam to the Jamie Wright Band!
URL:https://startupgvl.com/event/fam-jam-village-launch-market/
LOCATION:Mill Village Hub\, 1186 Pendleton St\, Greenville\, SC\, 29611\, United States
CATEGORIES:Community
END:VEVENT
END:VCALENDAR