BEGIN:VCALENDAR
VERSION:2.0
PRODID:-//StartupGVL - ECPv6.15.20//NONSGML v1.0//EN
CALSCALE:GREGORIAN
METHOD:PUBLISH
X-ORIGINAL-URL:https://startupgvl.com
X-WR-CALDESC:Events for StartupGVL
REFRESH-INTERVAL;VALUE=DURATION:PT1H
X-Robots-Tag:noindex
X-PUBLISHED-TTL:PT1H
BEGIN:VTIMEZONE
TZID:America/New_York
BEGIN:DAYLIGHT
TZOFFSETFROM:-0500
TZOFFSETTO:-0400
TZNAME:EDT
DTSTART:20240310T070000
END:DAYLIGHT
BEGIN:STANDARD
TZOFFSETFROM:-0400
TZOFFSETTO:-0500
TZNAME:EST
DTSTART:20241103T060000
END:STANDARD
BEGIN:DAYLIGHT
TZOFFSETFROM:-0500
TZOFFSETTO:-0400
TZNAME:EDT
DTSTART:20250309T070000
END:DAYLIGHT
BEGIN:STANDARD
TZOFFSETFROM:-0400
TZOFFSETTO:-0500
TZNAME:EST
DTSTART:20251102T060000
END:STANDARD
BEGIN:DAYLIGHT
TZOFFSETFROM:-0500
TZOFFSETTO:-0400
TZNAME:EDT
DTSTART:20260308T070000
END:DAYLIGHT
BEGIN:STANDARD
TZOFFSETFROM:-0400
TZOFFSETTO:-0500
TZNAME:EST
DTSTART:20261101T060000
END:STANDARD
END:VTIMEZONE
BEGIN:VEVENT
DTSTART;TZID=America/New_York:20251105T163000
DTEND;TZID=America/New_York:20251105T190000
DTSTAMP:20260422T011256
CREATED:20251027T164415Z
LAST-MODIFIED:20251027T164511Z
UID:4828-1762360200-1762369200@startupgvl.com
SUMMARY:RevUp GVL Showcase
DESCRIPTION:Join Greater Good Greenville and NextGEN for an inspiring evening as five nonprofits from the RevUp GVL cohort take the stage to pitch their innovative\, revenue-generating ideas to community guests and potential investors. \nEvent Schedule\n🍷 4:30 PM – 5:00 PM Networking & Mingling\nEnjoy drinks and light bites while connecting with fellow community members and leaders. \n🎤 5:00 PM – 6:00 PM Showcase Program\nHear dynamic pitches from the five RevUp GVL cohort members as they share their bold visions for sustainability and impact. \n🤝 6:00 PM – 7:00 PM Meet the Nonprofits\nEngage directly with the presenters\, ask questions\, and explore opportunities to support their work.
URL:https://startupgvl.com/event/revup-gvl-showcase/
LOCATION:The Rutherford\, 520 Rutherford Road\, Greenville\, SC\, 29609\, United States
CATEGORIES:Networking,Pitching
END:VEVENT
BEGIN:VEVENT
DTSTART;TZID=America/New_York:20251107T073000
DTEND;TZID=America/New_York:20251107T100000
DTSTAMP:20260422T011256
CREATED:20250811T192606Z
LAST-MODIFIED:20251104T142335Z
UID:4687-1762500600-1762509600@startupgvl.com
SUMMARY:Advantage Greenville
DESCRIPTION:Advantage Greenville brings together industry leaders\, innovators\, and visionaries to explore emerging trends\, transformative technologies\, and groundbreaking ideas shaping the future of business and society. Each session focuses on a timely and impactful topic\, offering attendees the opportunity to engage with renowned experts\, network with forward-thinking professionals\, and gain valuable insights for driving innovation and growth.  \n7:30 a.m. – 8:15 a.m.      Pre-event Networking and Breakfast \n8:15 a.m. – 9:30 a.m.      Main Event in Auditorium \n9:30 a.m. – 10:00 a.m.      Post-event Networking \nAdvantage Greenville is a bi-annual thought leadership forum presented by The Hill Institute for Innovation and Entrepreneurship in partnership with Furman University’s Alumni Office. 
URL:https://startupgvl.com/event/advantage-greenville/
LOCATION:Flywheel Coworking Greenville\, 101 N Main Street\, Greenville\, SC\, 29601\, United States
CATEGORIES:Innovation,Networking,Professional Development
END:VEVENT
BEGIN:VEVENT
DTSTART;TZID=America/New_York:20250408T090000
DTEND;TZID=America/New_York:20250408T103000
DTSTAMP:20260422T011256
CREATED:20250324T134857Z
LAST-MODIFIED:20250324T140811Z
UID:4350-1744102800-1744108200@startupgvl.com
SUMMARY:SHE Connects Coffee & Connections
DESCRIPTION:Start your morning connecting with inspiring women every second Tuesday of the month at 9am at Venture X. \nWhere: 141 Traction St.
URL:https://startupgvl.com/event/she-connects-coffee-connections/
LOCATION:Venture X\, 141 Traction St\, Greenville\, SC\, United States
CATEGORIES:Networking
END:VEVENT
BEGIN:VEVENT
DTSTART;TZID=America/New_York:20251111T090000
DTEND;TZID=America/New_York:20251111T110000
DTSTAMP:20260422T011256
CREATED:20251106T211851Z
LAST-MODIFIED:20251106T211851Z
UID:4849-1762851600-1762858800@startupgvl.com
SUMMARY:SHE CONNECT - Coffee & Connect
DESCRIPTION:Join us at SHE CONNECT – Coffee & Connect for a fun and casual networking event over coffee!\n\n\n\nHey ladies! Get ready to mingle and network at our Coffee & Connect event. Join us at Venture X Greenville – Plush Mills for a fun-filled evening of meeting new people\, sharing ideas\, and enjoying delicious coffee. This in-person event is the perfect opportunity to make meaningful connections and expand your network. Don’t miss out on this fantastic opportunity to connect with like-minded women in a relaxed and friendly atmosphere. See you there!
URL:https://startupgvl.com/event/she-connect-coffee-connect/
LOCATION:Venture X\, 141 Traction St\, Greenville\, SC\, United States
CATEGORIES:Networking
END:VEVENT
BEGIN:VEVENT
DTSTART;TZID=America/New_York:20251112T170000
DTEND;TZID=America/New_York:20251112T190000
DTSTAMP:20260422T011256
CREATED:20250930T175336Z
LAST-MODIFIED:20251021T170822Z
UID:4765-1762966800-1762974000@startupgvl.com
SUMMARY:SUDs (Startup Drinks)
DESCRIPTION:SUDs\, affectionately called StartupDrinks\, is back for November! This unstructured networking event is open to entrepreneurs\, ecosystem allies\, and all community members of the #StartupGVL ecosystem. The first drink is on NextGEN\, so get this one on your calendars!
URL:https://startupgvl.com/event/suds-startup-drinks-3/
LOCATION:New Realm Brewing\, 912 S Main St\, Greenville\, SC\, 29601\, United States
CATEGORIES:Networking
END:VEVENT
END:VCALENDAR