BEGIN:VCALENDAR
VERSION:2.0
PRODID:-//StartupGVL - ECPv6.15.20//NONSGML v1.0//EN
CALSCALE:GREGORIAN
METHOD:PUBLISH
X-ORIGINAL-URL:https://startupgvl.com
X-WR-CALDESC:Events for StartupGVL
REFRESH-INTERVAL;VALUE=DURATION:PT1H
X-Robots-Tag:noindex
X-PUBLISHED-TTL:PT1H
BEGIN:VTIMEZONE
TZID:America/New_York
BEGIN:DAYLIGHT
TZOFFSETFROM:-0500
TZOFFSETTO:-0400
TZNAME:EDT
DTSTART:20240310T070000
END:DAYLIGHT
BEGIN:STANDARD
TZOFFSETFROM:-0400
TZOFFSETTO:-0500
TZNAME:EST
DTSTART:20241103T060000
END:STANDARD
BEGIN:DAYLIGHT
TZOFFSETFROM:-0500
TZOFFSETTO:-0400
TZNAME:EDT
DTSTART:20250309T070000
END:DAYLIGHT
BEGIN:STANDARD
TZOFFSETFROM:-0400
TZOFFSETTO:-0500
TZNAME:EST
DTSTART:20251102T060000
END:STANDARD
BEGIN:DAYLIGHT
TZOFFSETFROM:-0500
TZOFFSETTO:-0400
TZNAME:EDT
DTSTART:20260308T070000
END:DAYLIGHT
BEGIN:STANDARD
TZOFFSETFROM:-0400
TZOFFSETTO:-0500
TZNAME:EST
DTSTART:20261101T060000
END:STANDARD
END:VTIMEZONE
BEGIN:VEVENT
DTSTART;TZID=America/New_York:20251216T080000
DTEND;TZID=America/New_York:20251216T090000
DTSTAMP:20260420T184403
CREATED:20251205T165047Z
LAST-MODIFIED:20251205T165047Z
UID:5014-1765872000-1765875600@startupgvl.com
SUMMARY:Coffee & Connections
DESCRIPTION:Join the South Carolina Artificial Intelligence Consortium for our AI Leadership Hub Networking Coffee at the Greenville One Center! \nConnect with fellow AI professionals\, share experiences\, and gain insights into the evolving AI landscape in South Carolina. Enjoy coffee and doughnuts provided by SCRA\, and feel free to bring a colleague or friend.
URL:https://startupgvl.com/event/coffee-connections/
LOCATION:Roam Greenville ONE\, 2 W Washington St Suite 200\, Greenville\, SC\, 29601\, United States
CATEGORIES:Networking
END:VEVENT
BEGIN:VEVENT
DTSTART;TZID=America/New_York:20251216T183000
DTEND;TZID=America/New_York:20251216T203000
DTSTAMP:20260420T184403
CREATED:20251205T165332Z
LAST-MODIFIED:20251205T165332Z
UID:5016-1765909800-1765917000@startupgvl.com
SUMMARY:Setting AI Goals That Matter
DESCRIPTION:​This session will explore how we\, as creators\, builders\, educators\, and leaders\, can set clear\, purposeful goals around how we’re using—and planning to use—AI in our work and lives. \n​We’re excited to have Josh Heller and Nathan Freystaetter from the SC AI Collaborative facilitating our Challenge Spotlight for the evening. They’ll help guide us through practical approaches to aligning intentions with tools in this ever-evolving landscape.
URL:https://startupgvl.com/event/setting-ai-goals-that-matter/
LOCATION:Venture X\, 141 Traction St\, Greenville\, SC\, United States
CATEGORIES:AI Education,Networking
END:VEVENT
END:VCALENDAR