BEGIN:VCALENDAR
VERSION:2.0
PRODID:-//StartupGVL - ECPv6.15.20//NONSGML v1.0//EN
CALSCALE:GREGORIAN
METHOD:PUBLISH
X-WR-CALNAME:StartupGVL
X-ORIGINAL-URL:https://startupgvl.com
X-WR-CALDESC:Events for StartupGVL
REFRESH-INTERVAL;VALUE=DURATION:PT1H
X-Robots-Tag:noindex
X-PUBLISHED-TTL:PT1H
BEGIN:VTIMEZONE
TZID:America/New_York
BEGIN:DAYLIGHT
TZOFFSETFROM:-0500
TZOFFSETTO:-0400
TZNAME:EDT
DTSTART:20250309T070000
END:DAYLIGHT
BEGIN:STANDARD
TZOFFSETFROM:-0400
TZOFFSETTO:-0500
TZNAME:EST
DTSTART:20251102T060000
END:STANDARD
BEGIN:DAYLIGHT
TZOFFSETFROM:-0500
TZOFFSETTO:-0400
TZNAME:EDT
DTSTART:20260308T070000
END:DAYLIGHT
BEGIN:STANDARD
TZOFFSETFROM:-0400
TZOFFSETTO:-0500
TZNAME:EST
DTSTART:20261101T060000
END:STANDARD
BEGIN:DAYLIGHT
TZOFFSETFROM:-0500
TZOFFSETTO:-0400
TZNAME:EDT
DTSTART:20270314T070000
END:DAYLIGHT
BEGIN:STANDARD
TZOFFSETFROM:-0400
TZOFFSETTO:-0500
TZNAME:EST
DTSTART:20271107T060000
END:STANDARD
END:VTIMEZONE
BEGIN:VEVENT
DTSTART;TZID=America/New_York:20260113T163000
DTEND;TZID=America/New_York:20260113T173000
DTSTAMP:20260424T034931
CREATED:20251217T163247Z
LAST-MODIFIED:20251217T163427Z
UID:5043-1768321800-1768325400@startupgvl.com
SUMMARY:Build Your First App Class
DESCRIPTION:Learn how modern apps come to life by building your own from the ground up. This beginner-friendly class introduces rapid prototyping with v0 and Cursor\, two powerful AI-assisted tools that make it easier than ever to turn an idea into a working application. Each session blends short lessons with hands-on creation so you can design a user interface\, generate the code behind it\, and see your app run by the end of class. \nThe class is designed for high school students but is open to anyone ages 13 and up\, including adults who want to explore app development in a more creative and accessible way. No prior experience is required\, but students will need to bring a laptop (Mac or PC). \nHomeschool students who take this class along with either Build Your First Game can count the combination as a full credit of high school computer science. A syllabus is available for that purpose; contact us to request a copy before the class begins.
URL:https://startupgvl.com/event/build-your-first-app/
LOCATION:NEXT Innovation Center\, 411 University Ridge\, Greenville\, SC\, 29601\, United States
CATEGORIES:Professional Development,Talent
END:VEVENT
BEGIN:VEVENT
DTSTART;TZID=America/New_York:20260114T163000
DTEND;TZID=America/New_York:20260114T173000
DTSTAMP:20260424T034931
CREATED:20251217T163357Z
LAST-MODIFIED:20251217T163411Z
UID:5045-1768408200-1768411800@startupgvl.com
SUMMARY:Build Your First Game Class
DESCRIPTION:Step inside the world of game development and create something of your own. In this beginner-friendly class\, you’ll learn the basics of Unreal Engine\, the same tool used to build many of today’s top games. Each session mixes guided lessons with time to experiment\, so you’ll finish with a small playable game and a big sense of accomplishment. \nThe class is designed for high school students\, but it’s open to anyone ages 13 and up\, including adults who are curious to try game development for the first time. No prior experience is required\, but students will need to bring a laptop capable of running Unreal Engine (Mac or PC). You can check the system requirements and download Unreal Engine here. \nHomeschool students who take this class along with Build Your First App can count the combination as a full credit of high school computer science. A syllabus is available for that purpose; contact us to request a copy before the class begins.
URL:https://startupgvl.com/event/build-your-first-game/
LOCATION:NEXT Innovation Center\, 411 University Ridge\, Greenville\, SC\, 29601\, United States
CATEGORIES:Professional Development,Talent
END:VEVENT
BEGIN:VEVENT
DTSTART;TZID=America/New_York:20260114T163000
DTEND;TZID=America/New_York:20260114T173000
DTSTAMP:20260424T034931
CREATED:20251217T163603Z
LAST-MODIFIED:20251217T163603Z
UID:5049-1768408200-1768411800@startupgvl.com
SUMMARY:Learn to Code with AI and Sports
DESCRIPTION:If you love sports and want to learn how coding works in the real world\, this class is the perfect place to start. You’ll learn Python by analyzing the statistics of your favorite sport\, whether that’s football\, basketball\, baseball\, volleyball\, tennis\, or anything else you follow. Each week you’ll write simple programs that turn real data into charts\, comparisons\, and insights\, giving you a fun and practical introduction to programming and data analytics. \nThe class is designed for high school students but is open to anyone ages 13 and up\, including adults who want a more engaging way to learn to code. No previous experience is needed\, and students only need a laptop (Mac or PC). \nHomeschool students who take this class along with Learn to Code with AI and Entertainment\, in addition to either Build Your First App or Build Your First Game\, can count the combination as a full credit of high school computer science. A syllabus is available for that purpose; contact us to request a copy before the class begins.
URL:https://startupgvl.com/event/learn-to-code-with-ai-and-sports/
LOCATION:NEXT Innovation Center\, 411 University Ridge\, Greenville\, SC\, 29601\, United States
CATEGORIES:Professional Development,Talent
END:VEVENT
BEGIN:VEVENT
DTSTART;TZID=America/New_York:20260130T110000
DTEND;TZID=America/New_York:20260130T140000
DTSTAMP:20260424T034931
CREATED:20251205T170416Z
LAST-MODIFIED:20251205T170416Z
UID:5018-1769770800-1769781600@startupgvl.com
SUMMARY:NextGEN Office Hours with Paul Clark & Tony Nolte
DESCRIPTION:Paul Clark with VentureSouth and Tony Nolte with Kim\, Lahey\, and Killough Law are available for office hours. Check NextGEN’s newsletters and website for the link to sign up!
URL:https://startupgvl.com/event/nextgen-office-hours-with-paul-clark-tony-nolte-3/
LOCATION:NEXT Innovation Center\, 411 University Ridge\, Greenville\, SC\, 29601\, United States
CATEGORIES:Professional Development,Talent
END:VEVENT
END:VCALENDAR