BEGIN:VCALENDAR
VERSION:2.0
PRODID:-//StartupGVL - ECPv6.15.20//NONSGML v1.0//EN
CALSCALE:GREGORIAN
METHOD:PUBLISH
X-WR-CALNAME:StartupGVL
X-ORIGINAL-URL:https://startupgvl.com
X-WR-CALDESC:Events for StartupGVL
REFRESH-INTERVAL;VALUE=DURATION:PT1H
X-Robots-Tag:noindex
X-PUBLISHED-TTL:PT1H
BEGIN:VTIMEZONE
TZID:America/New_York
BEGIN:DAYLIGHT
TZOFFSETFROM:-0500
TZOFFSETTO:-0400
TZNAME:EDT
DTSTART:20250309T070000
END:DAYLIGHT
BEGIN:STANDARD
TZOFFSETFROM:-0400
TZOFFSETTO:-0500
TZNAME:EST
DTSTART:20251102T060000
END:STANDARD
BEGIN:DAYLIGHT
TZOFFSETFROM:-0500
TZOFFSETTO:-0400
TZNAME:EDT
DTSTART:20260308T070000
END:DAYLIGHT
BEGIN:STANDARD
TZOFFSETFROM:-0400
TZOFFSETTO:-0500
TZNAME:EST
DTSTART:20261101T060000
END:STANDARD
BEGIN:DAYLIGHT
TZOFFSETFROM:-0500
TZOFFSETTO:-0400
TZNAME:EDT
DTSTART:20270314T070000
END:DAYLIGHT
BEGIN:STANDARD
TZOFFSETFROM:-0400
TZOFFSETTO:-0500
TZNAME:EST
DTSTART:20271107T060000
END:STANDARD
END:VTIMEZONE
BEGIN:VEVENT
DTSTART;TZID=America/New_York:20260303T171500
DTEND;TZID=America/New_York:20260303T190000
DTSTAMP:20260424T002142
CREATED:20260209T153826Z
LAST-MODIFIED:20260209T153826Z
UID:5195-1772558100-1772564400@startupgvl.com
SUMMARY:CBL Connect with Business & Brews
DESCRIPTION:CONNECT brings together top business leaders from across the Upstate for one of the region’s premier business networking experiences. \nAt CONNECT 2026\, attendees will: \n\n\nLearn from leading business minds and influential leaders in the Upstate \n\n\nConnect with fellow attendees through a unique\, network-enhancing incentive \n\n\nHear from a panel of highly esteemed business and community leaders making a meaningful impact across South Carolina \n\n\nBuild lasting relationships with other passionate contributors in the local business community \n\n\nGain exposure for their own business or brand
URL:https://startupgvl.com/event/cbl-connect-with-business-brews/
LOCATION:City Club of Greenville
CATEGORIES:Networking,Professional Development
END:VEVENT
BEGIN:VEVENT
DTSTART;TZID=America/New_York:20260308T130000
DTEND;TZID=America/New_York:20260308T160000
DTSTAMP:20260424T002142
CREATED:20260227T191538Z
LAST-MODIFIED:20260227T191538Z
UID:5243-1772974800-1772985600@startupgvl.com
SUMMARY:SheBuilds x Greenville
DESCRIPTION:Most ideas don’t fail. They just never get dedicated time on the calendar. On Sunday\, March 8 (International Women’s Day)\, you’re invited to give your idea an afternoon to become something real. \nSheBuilds Greenville is a hands-on build session where you can show up with an idea and leave with a working app or website by the end of the event. Come build with Lovable\, an AI-powered platform that helps you create by describing what you want\, then iterating as you go. No coding required\, just curiosity and a laptop. \nThis event is powered by Lovable x Anthropic in partnership with Stripe. SheBuilds is a global initiative by Lovable celebrating International Women’s Day. It brings together local hosts and community partners worldwide to run local and virtual events empowering women to build with technology.
URL:https://startupgvl.com/event/shebuilds-x-greenville/
LOCATION:Showoff Studio\, 46 Lois Ave\, Greenville\, SC\, 29611\, United States
CATEGORIES:Community,Networking,Professional Development
END:VEVENT
BEGIN:VEVENT
DTSTART;TZID=America/New_York:20260331T163000
DTEND;TZID=America/New_York:20260331T183000
DTSTAMP:20260424T002142
CREATED:20260312T203903Z
LAST-MODIFIED:20260312T203903Z
UID:5269-1774974600-1774981800@startupgvl.com
SUMMARY:i4 Series: Marketing After AI: What Actually Works Now
DESCRIPTION:Over the past year\, founders around Greenville have watched high-volume SEO content lose traction\, generic ad creative drive up acquisition costs\, and basic lead magnets stop converting as buyers turn to AI for answers. Join us for our March networking event: Marketing After AI: What Actually Works Now where panelists share insights on what’s not working\, where results are still holding up\, and how teams are adjusting execution strategies. Stay to network afterward with fellow founders\, funders\, and collaborators.
URL:https://startupgvl.com/event/i4-series-marketing-after-ai-what-actually-works-now/
LOCATION:Flywheel Coworking Greenville\, 101 N Main Street\, Greenville\, SC\, 29601\, United States
CATEGORIES:AI Education,Professional Development
END:VEVENT
END:VCALENDAR